BEGIN:VCALENDAR
VERSION:2.0
PRODID:-//wp-events-plugin.com//7.2.3.1//EN
TZID:Europe/Berlin
X-WR-TIMEZONE:Europe/Berlin
BEGIN:VEVENT
UID:14662@geburtshaus-am-neuen-garten.de
DTSTART;TZID=Europe/Berlin:20260606T100000
DTEND;TZID=Europe/Berlin:20260606T170000
DTSTAMP:20260112T172835Z
URL:https://geburtshaus-am-neuen-garten.de/events/geburtsvorbereitung-woch
 enendkurs-4/
SUMMARY:Geburtsvorbereitung Wochenendkurs
DESCRIPTION:Der Geburtsvorbereitungskurs möchte nicht nur auf die Geburt v
 orbereiten\, sondern auch ein Stück auf dem Weg zum Elternwerden begleite
 n.\n\nWochenend- Kurs 6.-7.06.2026\nKursleiterin Martina Schulze\nAnmeldun
 gen über mail@hebamme-martina-schulze.de\n\nWir bieten Informationen übe
 r den Beginn und den Verlauf einer Geburt und besprechen die Zeit nach der
  Entbindung.\n\nSpezielle Themen sind u. a. Gebärpositionen\, der Kreissa
 al\, der Umgang mit Schmerzen und Schmerzmitteln\, das Wochenbett sowie St
 illen und Säuglingspflege.\n\nÜbungen zur Körperwahrnehmung und Entspan
 nung helfen den werdenden Eltern\, ihrem Körper und den Vorgängen währe
 nd der Geburt zu vertrauen.\nSpeziell auch die Rolle der werdenden Väter 
 wird besprochen. Sie erhalten hilfreiche Tipps\, wie sie vor\, während un
 d nach der Geburt die Partnerin unterstützen können.\n\nIm Kurs besteht 
 zudem die Möglichkeit\, andere werdende Eltern zu treffen\, sich auszutau
 schen und gemeinsam auf die kommende Zeit zu freuen.\n\nIn besonderen Fäl
 len ist auch eine Einzelvorbereitung bzw. eine Vorbereitung zu Hause mögl
 ich.\n\n&nbsp\;
CATEGORIES:Geburtsvorbereitung
LOCATION:Geburtshaus Am Neuen Garten\, Große Weinmeisterstr. 57\, 14469 Po
 tsdam\, Deutschland
X-APPLE-STRUCTURED-LOCATION;VALUE=URI;X-ADDRESS=Große Weinmeisterstr. 57\,
  14469 Potsdam\, Deutschland;X-APPLE-RADIUS=100;X-TITLE=Geburtshaus Am Neu
 en Garten:geo:0,0
END:VEVENT
BEGIN:VTIMEZONE
TZID:Europe/Berlin
X-LIC-LOCATION:Europe/Berlin
BEGIN:DAYLIGHT
DTSTART:20260329T030000
TZOFFSETFROM:+0100
TZOFFSETTO:+0200
TZNAME:CEST
END:DAYLIGHT
END:VTIMEZONE
END:VCALENDAR