BEGIN:VCALENDAR
VERSION:2.0
PRODID:-//wp-events-plugin.com//7.2.3.1//EN
TZID:Europe/Berlin
X-WR-TIMEZONE:Europe/Berlin
BEGIN:VEVENT
UID:12582@geburtshaus-am-neuen-garten.de
DTSTART;TZID=Europe/Berlin:20251101T100000
DTEND;TZID=Europe/Berlin:20251102T180000
DTSTAMP:20251027T055535Z
URL:https://geburtshaus-am-neuen-garten.de/events/geburtsvorbereitungskurs
 -kompetent-entspannt-selbstbestimmt-8/
SUMMARY:Geburtsvorbereitungskurs "Kompetent\, Entspannt &amp\; Selbstbestim
 mt“
DESCRIPTION:Geburtsvorbereitungskurs "Kompetent\, Entspannt &amp\; Selbstbe
 stimmt“\nDas besondere Kursangebot für Paare! Mit Hebamme &amp\; Yoga -
  Trainerin\n\n\nTermin 01./02.11. 2025\nSamstag 10.00 Uhr – 18.00 Uhr\nS
 onntag 10.00 Uhr – ca.14.00 Uhr\n\nKursleiterin Peggy Jahnel und Ute Haa
 se\nAnmeldungen über peggyjahnel@web.de\n\nKursinhalt:\nAls erfahrene Heb
 amme und zertifizierte HypnoBirthing- Kursleiterin vermittelt Euch Hebamme
  Peggy Jahnel alle relevanten Themen für eine gesunde\, normale Schwanger
 schaft\, eine kraftvolle\, selbstbestimmte Geburt und ein entspanntes\, gu
 t vorbereitetes Wochenbett. Gern beantworte ich individuelle offene Fragen
 \, auch zu besonderen Situationen in diesen Lebensphasen\,\nAufbauend auf 
 diesem Wissen eröffnet sich die Chance\, im großzügig geplanten praktis
 chen Teil des Wochenendes\, die immens wichtige Entspannungsarbeit einzuf
 ühren.\nHier erfahrt Ihr mit Unterstützung einer Yoga- Trainerin durch v
 ielfältige Übungen\, wie Ihr Eure körperlichen und mentalen Ressourcen 
 effektiv für die Schwangerschaft\, Geburt und die Zeit danach nutzen kön
 nen. Das bewusste Atmen und Tönen\, Entspannen sowie Bewegen stärkt zude
 m Euer Selbstvertrauen und vertieft die Verbindung zu Ihrem Kind.\nAuch Eu
 er*e Partner*in  wird mit dem Wissen um die gesunde Geburt vertraut gemac
 ht und erfährt zusammen mit Euch die Wirkung und Vielfalt des Atems und d
 er Techniken der Tiefenentspannung\, sowie hilfreiche Unterstützungsmögl
 ichkeiten für die Geburt und den Alltag in Schwangerschaft und Wochenbett
 zeit.\n\nSeid herzlich eingeladen und lasst Euch überraschen und ein weni
 g verwöhnen von diesem besonderen Kursangebot!\n\nIch freue mich auf Euch
  und ein (ent)- spannendes Wochenende!\n\nKosten:\nKurs wird für die Schw
 angere vollständig von der Krankenkasse übernommen\nPartnergebühr: 170 
 € (in einigen Fällen übernehmen die Kassen diese Gebühr\, bitte frage
 n Sie bei Ihrer KK nach) Snacks\, Getränke\, Kursmaterialen incl.\n\n&nbs
 p\;\n\n&nbsp\;
CATEGORIES:Geburtsvorbereitung
LOCATION:Geburtshaus Am Neuen Garten\, Große Weinmeisterstr. 57\, 14469 Po
 tsdam\, Deutschland
X-APPLE-STRUCTURED-LOCATION;VALUE=URI;X-ADDRESS=Große Weinmeisterstr. 57\,
  14469 Potsdam\, Deutschland;X-APPLE-RADIUS=100;X-TITLE=Geburtshaus Am Neu
 en Garten:geo:0,0
END:VEVENT
BEGIN:VTIMEZONE
TZID:Europe/Berlin
X-LIC-LOCATION:Europe/Berlin
BEGIN:STANDARD
DTSTART:20251026T020000
TZOFFSETFROM:+0200
TZOFFSETTO:+0100
TZNAME:CET
END:STANDARD
END:VTIMEZONE
END:VCALENDAR