BEGIN:VCALENDAR
VERSION:2.0
PRODID:-//wp-events-plugin.com//7.2.3.1//EN
TZID:Europe/Berlin
X-WR-TIMEZONE:Europe/Berlin
BEGIN:VEVENT
UID:11736@geburtshaus-am-neuen-garten.de
DTSTART;TZID=Europe/Berlin:20250522T181500
DTEND;TZID=Europe/Berlin:20250522T191500
DTSTAMP:20240522T173122Z
URL:https://geburtshaus-am-neuen-garten.de/events/pilates-fuer-alle-3-2025
 -05-22/
SUMMARY:Pilates für alle
DESCRIPTION:Pilates ist ein ganzheitliches Training\, das sich durch eine l
 angsame\, konzentrierte und konzentrierte Ausführung in Verbindung mit ei
 ner tiefen Atmung charakterisiert. Der Fokus der Pilatesübungen liegt auf
  der Kräftigung der Körpermitte\, das heißt den tiefen Bauchmuskeln\, d
 en wirbelsäulenstabilisierenden Muskeln und den Beckenbodenmuskeln. Alle 
 Übungen werden aus der Körpermitte initiiert und fördern die Flexibilit
 ät\, die Haltung und die Entspannung des Körpers.\n\nKurse:\nPilates\n\n
 Donnerstag: 18.15 Uhr bis 19.15 Uhr
CATEGORIES:Pilates
LOCATION:Geburtshaus Am Neuen Garten\, Große Weinmeisterstr. 57\, 14469 Po
 tsdam\, Deutschland
X-APPLE-STRUCTURED-LOCATION;VALUE=URI;X-ADDRESS=Große Weinmeisterstr. 57\,
  14469 Potsdam\, Deutschland;X-APPLE-RADIUS=100;X-TITLE=Geburtshaus Am Neu
 en Garten:geo:0,0
END:VEVENT
BEGIN:VTIMEZONE
TZID:Europe/Berlin
X-LIC-LOCATION:Europe/Berlin
BEGIN:DAYLIGHT
DTSTART:20250330T030000
TZOFFSETFROM:+0100
TZOFFSETTO:+0200
TZNAME:CEST
END:DAYLIGHT
END:VTIMEZONE
END:VCALENDAR