BEGIN:VCALENDAR
VERSION:2.0
PRODID:-//wp-events-plugin.com//7.2.3.1//EN
TZID:Europe/Berlin
X-WR-TIMEZONE:Europe/Berlin
BEGIN:VEVENT
UID:11776@geburtshaus-am-neuen-garten.de
DTSTART;TZID=Europe/Berlin:20250506T173000
DTEND;TZID=Europe/Berlin:20250506T184500
DTSTAMP:20241117T181849Z
URL:https://geburtshaus-am-neuen-garten.de/events/schwangeren-yoga-2-2025-
 05-06/
SUMMARY:Schwangeren-Yoga
DESCRIPTION:Schwangeren-Yoga\nmit Josephine Heyn vom 8. April  - 27. Mai 2
 025\n\n\n\nSchwangerschaftsyoga bietet eine einzigartige Kombination aus Y
 oga\, Meditation und Pranayama\, um eine liebevoll leichte Schwangerschaft
  und Geburt zu fördern. Durch das Vertrauen in deinen Körper fühlst du 
 dich bestärkt und fähig\, dein Kind gelassen zur Welt zu bringen.\nIn de
 n Stunden des Schwangerschaftsyogas lernst du\, dich jederzeit\, einfach u
 nd wirksam zu entspannen. Indem du loslässt und dich entspannst\, schaffs
 t du eine mentale Ruhe\, die dir hilft\, dich auf eine positive Geburtserf
 ahrung vorzubereiten.\n\nStelle eine tiefere Verbindung zu deinem Baby her
 . Mit Leichtigkeit erkennst du deine eigenen Bedürfnisse sowie die deines
  Babys und nährst diese Verbindung während der gesamten Schwangerschaft.
 \n\nGemeinsam mit unserer Gemeinschaft kannst du dich auf natürliche Weis
 e auf die Geburt vorbereiten. Wir stärken nicht nur deinen Körper\, sond
 ern auch deinen Geist für diesen wichtigen Übergang im Leben.\n\n\n\n\n\
 n\n140€ Kursgebühr\n\nAnmeldung und Fragen bitte ausschließlich über 
 booking@hey-yoga.de\n\nweitere Informationen: https://hey-yoga.de/
CATEGORIES:Yoga 2
LOCATION:Geburtshaus Am Neuen Garten\, Große Weinmeisterstr. 57\, 14469 Po
 tsdam\, Deutschland
X-APPLE-STRUCTURED-LOCATION;VALUE=URI;X-ADDRESS=Große Weinmeisterstr. 57\,
  14469 Potsdam\, Deutschland;X-APPLE-RADIUS=100;X-TITLE=Geburtshaus Am Neu
 en Garten:geo:0,0
END:VEVENT
BEGIN:VTIMEZONE
TZID:Europe/Berlin
X-LIC-LOCATION:Europe/Berlin
BEGIN:DAYLIGHT
DTSTART:20250330T030000
TZOFFSETFROM:+0100
TZOFFSETTO:+0200
TZNAME:CEST
END:DAYLIGHT
END:VTIMEZONE
END:VCALENDAR