BEGIN:VCALENDAR
VERSION:2.0
PRODID:-//wp-events-plugin.com//7.2.3.1//EN
TZID:Europe/Berlin
X-WR-TIMEZONE:Europe/Berlin
BEGIN:VEVENT
UID:12533@geburtshaus-am-neuen-garten.de
DTSTART;TZID=Europe/Berlin:20250128T100000
DTEND;TZID=Europe/Berlin:20250128T110000
DTSTAMP:20250311T164303Z
URL:https://geburtshaus-am-neuen-garten.de/events/schwangerentreff-2025-01
 -28/
SUMMARY:Schwangerentreff
DESCRIPTION:Treff für Schwangere – Kursleiterin Theresa Dietrich\n\nWir 
 tauschen uns aus über alles was euch bewegt. Dieser Schwangerentreff kann
  ein fester Anker in eurer Schwangerschaft werden oder ihr besucht ihn spo
 ntan\, wann immer ihr Zeit habt. Hier ist Raum für Fragen und Themen\, di
 e euch während der Schwangerschaft bewegen. Zusammen mit anderen Schwange
 ren\, fühlt ihr euch verbunden und habt die Möglichkeit neue Kontakte zu
  knüpfen.\n \nIch freu mich auf euch. Bitte meldet euch vorher an.  Die
 ser Treff findet auf Spendenbasis.\nAnmeldung über den Kontaktbutton oder
  folgende Mailadresse: doula.theresadietrich@gmail.com\n\nTermin:\n\nDiens
 tag alle zwei Wochen\n\n10:00 - 11:30 Uhr
CATEGORIES:Klang Meditation
LOCATION:Geburtshaus Am Neuen Garten\, Große Weinmeisterstr. 57\, 14469 Po
 tsdam\, Deutschland
X-APPLE-STRUCTURED-LOCATION;VALUE=URI;X-ADDRESS=Große Weinmeisterstr. 57\,
  14469 Potsdam\, Deutschland;X-APPLE-RADIUS=100;X-TITLE=Geburtshaus Am Neu
 en Garten:geo:0,0
END:VEVENT
BEGIN:VTIMEZONE
TZID:Europe/Berlin
X-LIC-LOCATION:Europe/Berlin
BEGIN:STANDARD
DTSTART:20241027T020000
TZOFFSETFROM:+0200
TZOFFSETTO:+0100
TZNAME:CET
END:STANDARD
END:VTIMEZONE
END:VCALENDAR