BEGIN:VCALENDAR
VERSION:2.0
PRODID:-//wp-events-plugin.com//7.2.3.1//EN
TZID:Europe/Berlin
X-WR-TIMEZONE:Europe/Berlin
BEGIN:VEVENT
UID:12615@geburtshaus-am-neuen-garten.de
DTSTART;TZID=Europe/Berlin:20251110T100000
DTEND;TZID=Europe/Berlin:20251110T110000
DTSTAMP:20251215T180038Z
URL:https://geburtshaus-am-neuen-garten.de/events/still-treff-2025-11-10/
SUMMARY:Still-Treff Geburtshaus am Neuen Garten
DESCRIPTION:Du suchst Austausch mit Gleichgesinnten? Du bist unsicher\, ob
  du beim Stillen alles richtig machst? Dich beschäftigen viele Fragen run
 d um das Thema Babyschlaf und Beikost-Beginn?  \n\nDann schau gerne beim 
 monatlichen Still-Treff vorbei!\n\nWir treffen uns in entspannter Atmosph
 äre und tauschen uns über die alltäglichen Wunder und Wunderlichkeiten 
 aus\, die das Familienleben mit sich bringt. Wir kommen ins Gespräch üb
 er alles\, was euch gerade beschäftigt - nicht nur zum Thema Stillen\, s
 ondern auch über Schlaf\, Fläschchenfütterung\, Abstillen\, Beikost und
  vieles mehr. Es ist Raum für eure Erfahrungen\, Sorgen und Unsicherheit
 en – selbstverständlich sind auch nicht (mehr) Stillende\, Schwangere u
 nd Väter herzlich willkommen!\n\nFür die Kinder gibt es Platz zum Krabbe
 ln und Spielen\, für euch gemütliche Sitzkissen mit Tee und Snacks.\n\nI
 ch stehe Euch als BFB bindungsorientierte Familienbegleiterin® zu den The
 men Stillen\, Babyschlaf und Beikost zur Seite und beantworte gerne Eure F
 ragen. \n\nIch freue mich auf euch!\n\nKursleiterin Anique Schmager\n\nBi
 tte meldet euch vorher an\, über folgende Mailadresse: info@familienbegl
 eitung-potsdam.de\n\nKostenbeitrag: 5 €
CATEGORIES:Stillgruppe
LOCATION:Geburtshaus Am Neuen Garten\, Große Weinmeisterstr. 57\, 14469 Po
 tsdam\, Deutschland
X-APPLE-STRUCTURED-LOCATION;VALUE=URI;X-ADDRESS=Große Weinmeisterstr. 57\,
  14469 Potsdam\, Deutschland;X-APPLE-RADIUS=100;X-TITLE=Geburtshaus Am Neu
 en Garten:geo:0,0
END:VEVENT
BEGIN:VTIMEZONE
TZID:Europe/Berlin
X-LIC-LOCATION:Europe/Berlin
BEGIN:STANDARD
DTSTART:20251026T020000
TZOFFSETFROM:+0200
TZOFFSETTO:+0100
TZNAME:CET
END:STANDARD
END:VTIMEZONE
END:VCALENDAR