BEGIN:VCALENDAR
VERSION:2.0
PRODID:-//wp-events-plugin.com//7.2.3.1//EN
TZID:Europe/Berlin
X-WR-TIMEZONE:Europe/Berlin
BEGIN:VEVENT
UID:14677@geburtshaus-am-neuen-garten.de
DTSTART;TZID=Europe/Berlin:20260519T170000
DTEND;TZID=Europe/Berlin:20260519T193000
DTSTAMP:20260422T184546Z
URL:https://geburtshaus-am-neuen-garten.de/events/stillvorbereitungskurs-g
 eburtshaus-am-neuen-garten-2/
SUMMARY:Stillvorbereitungskurs Geburtshaus am Neuen Garten
DESCRIPTION:\n\n\nStillen ist einfach\, oder?\n\n\n\nStillen ist ein natür
 licher Weg\, dein Baby zu ernähren und eure Bindung weiter zu vertiefen. 
 Dennoch bringt gerade der Anfang oft viele Fragen und Unsicherheiten mit s
 ich. Im Stillvorbereitungskurs erhältst du grundlegendes und alltagsnahes
  Wissen\, damit du mit deinem Kind einen gelungenen Start ins Stillen hast
  und auch in herausfordernden Momenten gut vorbereitet bist.\n​Wir besch
 äftigen uns unter anderem mit diesen Themen:\n- Entstehung &amp\; Funktio
 n von Muttermilch\; Kolostrum\n- Die Bedeutung des ersten Anlegens direkt 
 nach der Geburt\n- ​Korrektes Anlegen &amp\; verschiedene Stillpositione
 n\n- Hungerzeichen\n- Wie erkenne ich\, ob mein Baby genug Milch bekommt?\
 n- Wie kann man wunden Brustwarzen und Schmerzen vorbeugen?\n- Stillproble
 me - was tun?\n- Welche Stillhilfsmittel sind sinnvoll?\n- Mythen und Unsi
 cherheiten rund ums Stillen\n- Ernährung &amp\; Medikamente in der Stillz
 eit\n\n​Neben theoretischem Wissen ist auch Zeit für individuelle Frage
 n und Sorgen zu besonderen Situationen\n(z.B. geplanter Kaiserschnitt\, m
 ögliche Trennung nach der Geburt...)\n\nFür wen eignet sich der Kurs?\nD
 er Kurs ist die ideale Ergänzung zu einem Geburtsvorbereitungskurs - egal
 \, ob du dein erstes Kind erwartest oder schon Erfahrungen mitbringst oder
  dieses Mal einen anderen Weg gehen möchtest.\nDer Stillvorbereitungskurs
  ist besonders für Schwangere ab der 34. Schwangerschaftswoche empfehlens
 wert. \nAuch Partner*innen sind herzlich eingeladen\, dabei zu sein. So s
 ind auch sie umfassend informiert und können ihre Partnerin beim Stillsta
 rt und in der gesamten Stillzeit bestmöglich unterstützen.​\nTermin: S
 amstag\, 17.05.206\nUhrzeit:17:00\nDauer: ca. 2\,5 Stunden\nKosten: 39 €
  pro Person inkl. Snacks\, Getränke &amp\; Handout\nPartner*in kann koste
 nlos mitkommen!\nKursleiterin Anique Schmager\nBitte meldet euch über fol
 gende Mailadresse an: info@familienbegleitung-potsdam.de\n\n\n\n\n
CATEGORIES:Stillgruppe
LOCATION:Geburtshaus Am Neuen Garten\, Große Weinmeisterstr. 57\, 14469 Po
 tsdam\, Deutschland
X-APPLE-STRUCTURED-LOCATION;VALUE=URI;X-ADDRESS=Große Weinmeisterstr. 57\,
  14469 Potsdam\, Deutschland;X-APPLE-RADIUS=100;X-TITLE=Geburtshaus Am Neu
 en Garten:geo:0,0
END:VEVENT
BEGIN:VTIMEZONE
TZID:Europe/Berlin
X-LIC-LOCATION:Europe/Berlin
BEGIN:DAYLIGHT
DTSTART:20260329T030000
TZOFFSETFROM:+0100
TZOFFSETTO:+0200
TZNAME:CEST
END:DAYLIGHT
END:VTIMEZONE
END:VCALENDAR