BEGIN:VCALENDAR
VERSION:2.0
PRODID:-//wp-events-plugin.com//7.2.3.1//EN
TZID:Europe/Berlin
X-WR-TIMEZONE:Europe/Berlin
BEGIN:VEVENT
UID:13689@geburtshaus-am-neuen-garten.de
DTSTART;TZID=Europe/Berlin:20251008T183000
DTEND;TZID=Europe/Berlin:20251008T200000
DTSTAMP:20251027T054342Z
URL:https://geburtshaus-am-neuen-garten.de/events/vr-vinyasa-yoga-fuer-all
 e-2025-10-08/
SUMMARY:Vinyasa Yoga für Alle
DESCRIPTION:Vinyasa Yoga für Männer und Frauen\n\nMittwochs 18:30 - 20:00
 \n\n\nJeden 1. im Monat findet in diesem Kurs Yin-Yoga statt\n(Yin-Yoga is
 t eine sehr ruhige\, entspannende und regenerierende Yoga-Praxis und wirkt
  auf tiefliegendes Gewebe\, die Faszien)\n\nKursleiterin Jana Haak\n\nAnme
 ldung über folgende Mailadresse: info@yoga-potsdam.eu
CATEGORIES:Yoga
LOCATION:Geburtshaus Am Neuen Garten\, Große Weinmeisterstr. 57\, 14469 Po
 tsdam\, Deutschland
X-APPLE-STRUCTURED-LOCATION;VALUE=URI;X-ADDRESS=Große Weinmeisterstr. 57\,
  14469 Potsdam\, Deutschland;X-APPLE-RADIUS=100;X-TITLE=Geburtshaus Am Neu
 en Garten:geo:0,0
END:VEVENT
BEGIN:VTIMEZONE
TZID:Europe/Berlin
X-LIC-LOCATION:Europe/Berlin
BEGIN:DAYLIGHT
DTSTART:20250330T030000
TZOFFSETFROM:+0100
TZOFFSETTO:+0200
TZNAME:CEST
END:DAYLIGHT
END:VTIMEZONE
END:VCALENDAR