BEGIN:VCALENDAR
VERSION:2.0
PRODID:-//wp-events-plugin.com//7.2.3.1//EN
TZID:Europe/Berlin
X-WR-TIMEZONE:Europe/Berlin
BEGIN:VEVENT
UID:11784@geburtshaus-am-neuen-garten.de
DTSTART;TZID=Europe/Berlin:20250128T173000
DTEND;TZID=Europe/Berlin:20250128T184500
DTSTAMP:20241117T181122Z
URL:https://geburtshaus-am-neuen-garten.de/events/yin-yoga-spezial-im-janu
 ar-2025-01-28/
SUMMARY:YIN-Yoga Spezial im Januar
DESCRIPTION:YIN-Yoga Spezial - eine Reise durch die Elemente\nmit Josephine
  Heyn 07. Januar - 28. Januar 2025\n\n  \n\nalle 4 Termine im Paket = 60 
 €\nEinzeltermine = 18 €\n\nAnmeldung und Fragen bitte ausschließlich 
 über booking@hey-yoga.de\n\nweitere Informationen: https://hey-yoga.de/
CATEGORIES:Yoga 2
LOCATION:Geburtshaus Am Neuen Garten\, Große Weinmeisterstr. 57\, 14469 Po
 tsdam\, Deutschland
X-APPLE-STRUCTURED-LOCATION;VALUE=URI;X-ADDRESS=Große Weinmeisterstr. 57\,
  14469 Potsdam\, Deutschland;X-APPLE-RADIUS=100;X-TITLE=Geburtshaus Am Neu
 en Garten:geo:0,0
END:VEVENT
BEGIN:VTIMEZONE
TZID:Europe/Berlin
X-LIC-LOCATION:Europe/Berlin
BEGIN:STANDARD
DTSTART:20241027T020000
TZOFFSETFROM:+0200
TZOFFSETTO:+0100
TZNAME:CET
END:STANDARD
END:VTIMEZONE
END:VCALENDAR